BEGIN:VCALENDAR
VERSION:2.0
PRODID:KKTIX
CALSCALE:GREGORIAN
METHOD:PUBLISH
BEGIN:VTIMEZONE
TZID:Asia/Taipei
END:VTIMEZONE
BEGIN:VEVENT
DTSTAMP:20260424T153150Z
UID:c8f3c983-5d66-4c84-90a6-60b437e2d1cd
DTSTART:20260516T100000Z
DTEND:20260516T100000Z
CLASS:PUBLIC
DESCRIPTION:https://lingchenpai.kktix.cc/events/t30c394b
LOCATION: (臺北市松山區八德路三段106巷1號B1) 凝聚力音樂
 娛樂Cohesion Space
SUMMARY:18:00場【BreakTHROUGH : LAVIN 1st FANCON in TAIPEI】
END:VEVENT
END:VCALENDAR
