BEGIN:VCALENDAR
VERSION:2.0
PRODID:KKTIX
CALSCALE:GREGORIAN
METHOD:PUBLISH
BEGIN:VTIMEZONE
TZID:Asia/Taipei
END:VTIMEZONE
BEGIN:VEVENT
DTSTAMP:20260424T153150Z
UID:432f66aa-ca00-4edb-8ce8-2c920583ec99
DTSTART:20260516T050000Z
DTEND:20260516T050000Z
CLASS:PUBLIC
DESCRIPTION:https://lingchenpai.kktix.cc/events/a1e54895
LOCATION: (臺北市松山區八德路三段106巷1號B1) 凝聚力音樂
 娛樂Cohesion Space
SUMMARY:13:00場【BreakTHROUGH : LAVIN 1st FANCON in TAIPEI】
END:VEVENT
END:VCALENDAR
